BEGIN:VCALENDAR
VERSION:2.0
PRODID:-//Aulne Photo-Club - ECPv6.15.11//NONSGML v1.0//EN
CALSCALE:GREGORIAN
METHOD:PUBLISH
X-WR-CALNAME:Aulne Photo-Club
X-ORIGINAL-URL:http://www.aulne-photoclub.fr
X-WR-CALDESC:Évènements pour Aulne Photo-Club
REFRESH-INTERVAL;VALUE=DURATION:PT1H
X-Robots-Tag:noindex
X-PUBLISHED-TTL:PT1H
BEGIN:VTIMEZONE
TZID:Europe/Paris
BEGIN:DAYLIGHT
TZOFFSETFROM:+0100
TZOFFSETTO:+0200
TZNAME:CEST
DTSTART:20210328T010000
END:DAYLIGHT
BEGIN:STANDARD
TZOFFSETFROM:+0200
TZOFFSETTO:+0100
TZNAME:CET
DTSTART:20211031T010000
END:STANDARD
BEGIN:DAYLIGHT
TZOFFSETFROM:+0100
TZOFFSETTO:+0200
TZNAME:CEST
DTSTART:20220327T010000
END:DAYLIGHT
BEGIN:STANDARD
TZOFFSETFROM:+0200
TZOFFSETTO:+0100
TZNAME:CET
DTSTART:20221030T010000
END:STANDARD
BEGIN:DAYLIGHT
TZOFFSETFROM:+0100
TZOFFSETTO:+0200
TZNAME:CEST
DTSTART:20230326T010000
END:DAYLIGHT
BEGIN:STANDARD
TZOFFSETFROM:+0200
TZOFFSETTO:+0100
TZNAME:CET
DTSTART:20231029T010000
END:STANDARD
END:VTIMEZONE
BEGIN:VEVENT
DTSTART;TZID=Europe/Paris:20220208T190000
DTEND;TZID=Europe/Paris:20220208T223000
DTSTAMP:20260426T050217
CREATED:20220206T145817Z
LAST-MODIFIED:20220206T145817Z
UID:7469-1644346800-1644359400@www.aulne-photoclub.fr
SUMMARY:PROJECTION FILM PHOTOGRAPHIE "A LA RECHERCHE DE VIVIAN MAIER
DESCRIPTION:soirée analyses d’images :  thème « Photos de rue Chaque photographe du club peut (il n’y a aucune obligation) présenter les photos (3 max) qu’il a réalisées : – pendant la période des thèmes – sur le thème en cours de préférence. – sur un thème propre. 1) présentez la photo postraitée pour la présentation servez vous de la grille d’analyse ( section réservée – Documents club-analyse d’images ) privilégiez l’explication de votre intention  2) présentez la photo initiale avec ses exifs 3) vote pour la photo du mois
URL:http://www.aulne-photoclub.fr/evenement/projection-film-photographie/
LOCATION:place Guillaume Guéguen\, 29140 Tourc’h.
CATEGORIES:A voir
END:VEVENT
END:VCALENDAR